BEGIN:VCALENDAR
VERSION:2.0
PRODID:Augusta County, VA Calendar Creator
METHOD:PUBLISH
BEGIN:VEVENT
DTSTAMP:20200903T115401
DTSTART:20200907T000000
DTEND:20200907T235900
SUMMARY:Labor Day Holiday Observance
DESCRIPTION:<p>Offices at the Government Center will be closed on Monday, September 7, 2020, in observance of the Labor Day holiday.&nbsp;</p><p>The Augusta Regional Landfill and compactor sites will also be closed.</p><p>The Government Center and the landfill will return to normal business hours on Tuesday, September 8.</p><p>Enjoy the long weekend!</p>
X-ALT-DESC;FMTTYPE=text/html:<p>Offices at the Government Center will be closed on Monday, September 7, 2020, in observance of the Labor Day holiday.&nbsp;</p><p>The Augusta Regional Landfill and compactor sites will also be closed.</p><p>The Government Center and the landfill will return to normal business hours on Tuesday, September 8.</p><p>Enjoy the long weekend!</p>
LOCATION:Government Center\, 18 Government Center Lane Verona\, Virginia 24482
CLASS:PUBLIC
END:VEVENT
END:VCALENDAR
