BEGIN:VCALENDAR
VERSION:2.0
PRODID:Augusta County, VA Calendar Creator
METHOD:PUBLISH
BEGIN:VEVENT
DTSTAMP:20200626T114416
DTSTART:20200703T000000
DTEND:20200703T235900
SUMMARY:July 4 Holiday Observance
DESCRIPTION:<p>Offices will be closed at the Government Center on Friday, July 3, 2020, in observance of the July 4<sup>th</sup> holiday. </p><p>The landfill will be closed on Saturday, July 4, 2020.</p><p>&nbsp;</p>
X-ALT-DESC;FMTTYPE=text/html:<p>Offices will be closed at the Government Center on Friday, July 3, 2020, in observance of the July 4<sup>th</sup> holiday. </p><p>The landfill will be closed on Saturday, July 4, 2020.</p><p>&nbsp;</p>
LOCATION:
CLASS:PUBLIC
END:VEVENT
END:VCALENDAR
