BEGIN:VCALENDAR
VERSION:2.0
PRODID:Augusta County, VA Calendar Creator
METHOD:PUBLISH
BEGIN:VEVENT
DTSTAMP:20181019T143738
DTSTART:20181029T170000
DTEND:20181029T235900
SUMMARY:Augusta Health Government Social
DESCRIPTION:
X-ALT-DESC;FMTTYPE=text/html:
LOCATION:Augusta Health\, Fishersville\, Virginia 22939
CLASS:PUBLIC
END:VEVENT
END:VCALENDAR
