BEGIN:VCALENDAR
VERSION:2.0
PRODID:Augusta County, VA Calendar Creator
METHOD:PUBLISH
BEGIN:VEVENT
DTSTAMP:20180123T090623
DTSTART:20180124T000000
DTEND:20180125T235900
SUMMARY:test
DESCRIPTION:test for fb
X-ALT-DESC;FMTTYPE=text/html:test for fb
LOCATION:
CLASS:PUBLIC
END:VEVENT
END:VCALENDAR
