BEGIN:VCALENDAR
VERSION:2.0
PRODID:Augusta County, VA Calendar Creator
METHOD:PUBLISH
BEGIN:VEVENT
DTSTAMP:20170925T123058
DTSTART:20170524T190000
DTEND:20170524T235900
SUMMARY:BOS MEETING
DESCRIPTION:<a href="ftp://ftp.co.augusta.va.us/Board%20Minutes/May_24_2017.mp3" target="_blank">Audio</a>
X-ALT-DESC;FMTTYPE=text/html:<a href="ftp://ftp.co.augusta.va.us/Board%20Minutes/May_24_2017.mp3" target="_blank">Audio</a>
LOCATION:GOVERNMENT CENTER\, 18 GOVERNMENT CENTER LANE VERONA\, Virginia 24482
CLASS:PUBLIC
END:VEVENT
END:VCALENDAR
