BEGIN:VCALENDAR
VERSION:2.0
PRODID:Augusta County, VA Calendar Creator
METHOD:PUBLISH
BEGIN:VEVENT
DTSTAMP:20161130T222048
DTSTART:20130108T170000
DTEND:20130108T235900
SUMMARY:Planning Commission Worksession
DESCRIPTION:<span id=_ctl1_descriptionLabel>&nbsp; <div id=_ctl0_descriptionDiv class=component_content>For more information, please contact <a href="https://augusta.prod-as.govaccess.org/government/departments-and-offices/community-development"><span style="COLOR: #810081">Community Development </span></a>at (540) 245-5700.&nbsp; </div><div class=component_content><br><a href="https://augusta.prod-as.govaccess.org/home/showpublisheddocument/5441/636161412480370000" target=_blank>January 8, 2013 Worksession Agenda</a></div></span>
X-ALT-DESC;FMTTYPE=text/html:<span id=_ctl1_descriptionLabel>&nbsp; <div id=_ctl0_descriptionDiv class=component_content>For more information, please contact <a href="https://augusta.prod-as.govaccess.org/government/departments-and-offices/community-development"><span style="COLOR: #810081">Community Development </span></a>at (540) 245-5700.&nbsp; </div><div class=component_content><br><a href="https://augusta.prod-as.govaccess.org/home/showpublisheddocument/5441/636161412480370000" target=_blank>January 8, 2013 Worksession Agenda</a></div></span>
LOCATION:Augusta County Government Center\, 18 Government Center Lane Verona\, Virginia 24482
CLASS:PUBLIC
END:VEVENT
END:VCALENDAR
