BEGIN:VCALENDAR
VERSION:2.0
PRODID:Augusta County, VA Calendar Creator
METHOD:PUBLISH
BEGIN:VEVENT
DTSTAMP:20161130T222048
DTSTART:20121105T180000
DTEND:20121105T235900
SUMMARY:VDOT's Primary Interstate Six-Year Plan
DESCRIPTION:
X-ALT-DESC;FMTTYPE=text/html:
LOCATION:Government Center\, 18 Government Center Lane Verona\, Virginia 24482
CLASS:PUBLIC
END:VEVENT
END:VCALENDAR
