BEGIN:VCALENDAR
VERSION:2.0
PRODID:Augusta County, VA Calendar Creator
METHOD:PUBLISH
BEGIN:VEVENT
DTSTAMP:20161130T222048
DTSTART:20121101T163000
DTEND:20121101T193000
SUMMARY:Fields of Gold Agritourism Harvest Jubilee
DESCRIPTION:
X-ALT-DESC;FMTTYPE=text/html:
LOCATION:Barren Ridge Vineyards\, Virginia 
CLASS:PUBLIC
END:VEVENT
END:VCALENDAR
