BEGIN:VCALENDAR
VERSION:2.0
PRODID:Augusta County, VA Calendar Creator
METHOD:PUBLISH
BEGIN:VEVENT
DTSTAMP:20161130T222048
DTSTART:20120314T190000
DTEND:20120314T235900
SUMMARY:BOS REGULAR MEETING
DESCRIPTION:<p><a href="https://augusta.prod-as.govaccess.org/home/showpublisheddocument/4723/636161412480370000" target=_blank>Agenda</a></p><p><a href="https://augusta.prod-as.govaccess.org/home/showpublisheddocument/4767/636161412480370000" target=_blank>Minutes</a><br></p><p><a href="ftp://www.co.augusta.va.us/Board%20Minutes/March14_2012.mp3">Audio</a></p>
X-ALT-DESC;FMTTYPE=text/html:<p><a href="https://augusta.prod-as.govaccess.org/home/showpublisheddocument/4723/636161412480370000" target=_blank>Agenda</a></p><p><a href="https://augusta.prod-as.govaccess.org/home/showpublisheddocument/4767/636161412480370000" target=_blank>Minutes</a><br></p><p><a href="ftp://www.co.augusta.va.us/Board%20Minutes/March14_2012.mp3">Audio</a></p>
LOCATION:GOVERNMENT CENTER\, 18 GOVERNMENT CENTER LANE VERONA\, Virginia 24482
CLASS:PUBLIC
END:VEVENT
END:VCALENDAR
